BEGIN:VCALENDAR
VERSION:2.0
PRODID:-//casuHAL - ECPv6.13.2.1//NONSGML v1.0//EN
CALSCALE:GREGORIAN
METHOD:PUBLISH
X-ORIGINAL-URL:https://www.casuhal.org
X-WR-CALDESC:Évènements pour casuHAL
REFRESH-INTERVAL;VALUE=DURATION:PT1H
X-Robots-Tag:noindex
X-PUBLISHED-TTL:PT1H
BEGIN:VTIMEZONE
TZID:Europe/Paris
BEGIN:DAYLIGHT
TZOFFSETFROM:+0100
TZOFFSETTO:+0200
TZNAME:CEST
DTSTART:20240331T010000
END:DAYLIGHT
BEGIN:STANDARD
TZOFFSETFROM:+0200
TZOFFSETTO:+0100
TZNAME:CET
DTSTART:20241027T010000
END:STANDARD
END:VTIMEZONE
BEGIN:VEVENT
DTSTART;TZID=Europe/Paris:20240923T093000
DTEND;TZID=Europe/Paris:20240923T110000
DTSTAMP:20260422T180901
CREATED:20240705T064658Z
LAST-MODIFIED:20240705T070349Z
UID:6546-1727083800-1727089200@www.casuhal.org
SUMMARY:Point CCSD
DESCRIPTION:
URL:https://www.casuhal.org/event/point-ccsd/
CATEGORIES:Point CCSD
ATTACH;FMTTYPE=image/png:https://www.casuhal.org/wp-content/uploads/sites/41/2024/07/bandeau_evenements_point_ccsd.png
END:VEVENT
END:VCALENDAR