BEGIN:VCALENDAR
VERSION:2.0
PRODID:-//casuHAL - ECPv6.13.2.1//NONSGML v1.0//EN
CALSCALE:GREGORIAN
METHOD:PUBLISH
X-WR-CALNAME:casuHAL
X-ORIGINAL-URL:https://www.casuhal.org
X-WR-CALDESC:Évènements pour casuHAL
REFRESH-INTERVAL;VALUE=DURATION:PT1H
X-Robots-Tag:noindex
X-PUBLISHED-TTL:PT1H
BEGIN:VTIMEZONE
TZID:Europe/Paris
BEGIN:DAYLIGHT
TZOFFSETFROM:+0100
TZOFFSETTO:+0200
TZNAME:CEST
DTSTART:20260329T010000
END:DAYLIGHT
BEGIN:STANDARD
TZOFFSETFROM:+0200
TZOFFSETTO:+0100
TZNAME:CET
DTSTART:20261025T010000
END:STANDARD
END:VTIMEZONE
BEGIN:VEVENT
DTSTART;TZID=Europe/Paris:20260112T093000
DTEND;TZID=Europe/Paris:20260112T113000
DTSTAMP:20260423T194440
CREATED:20250926T132008Z
LAST-MODIFIED:20250926T132008Z
UID:7595-1768210200-1768217400@www.casuhal.org
SUMMARY:Réunion du bureau
DESCRIPTION:
URL:https://www.casuhal.org/event/reunion-du-bureau-25/
LOCATION:En ligne\, France
CATEGORIES:Bureau
ATTACH;FMTTYPE=image/png:https://www.casuhal.org/wp-content/uploads/sites/41/2024/04/calendrier_bureau.png
END:VEVENT
END:VCALENDAR