BEGIN:VCALENDAR
VERSION:2.0
PRODID:-//casuHAL - ECPv6.13.2.1//NONSGML v1.0//EN
CALSCALE:GREGORIAN
METHOD:PUBLISH
X-ORIGINAL-URL:https://www.casuhal.org
X-WR-CALDESC:Évènements pour casuHAL
REFRESH-INTERVAL;VALUE=DURATION:PT1H
X-Robots-Tag:noindex
X-PUBLISHED-TTL:PT1H
BEGIN:VTIMEZONE
TZID:Europe/Paris
BEGIN:DAYLIGHT
TZOFFSETFROM:+0100
TZOFFSETTO:+0200
TZNAME:CEST
DTSTART:20240331T010000
END:DAYLIGHT
BEGIN:STANDARD
TZOFFSETFROM:+0200
TZOFFSETTO:+0100
TZNAME:CET
DTSTART:20241027T010000
END:STANDARD
END:VTIMEZONE
BEGIN:VEVENT
DTSTART;TZID=Europe/Paris:20240108T091500
DTEND;TZID=Europe/Paris:20240108T111500
DTSTAMP:20260425T044834
CREATED:20240426T083221Z
LAST-MODIFIED:20240426T083221Z
UID:5298-1704705300-1704712500@www.casuhal.org
SUMMARY:Réunion du bureau
DESCRIPTION:
URL:https://www.casuhal.org/event/reunion-du-bureau-6/
LOCATION:En ligne\, France
CATEGORIES:Bureau
ATTACH;FMTTYPE=image/png:https://www.casuhal.org/wp-content/uploads/sites/41/2024/04/calendrier_bureau.png
END:VEVENT
BEGIN:VEVENT
DTSTART;TZID=Europe/Paris:20240115T150000
DTEND;TZID=Europe/Paris:20240115T163000
DTSTAMP:20260425T044834
CREATED:20240426T083315Z
LAST-MODIFIED:20240426T083626Z
UID:5307-1705330800-1705336200@www.casuhal.org
SUMMARY:Réunion du bureau
DESCRIPTION:
URL:https://www.casuhal.org/event/reunion-du-bureau-copy-2/
LOCATION:En ligne\, France
CATEGORIES:Bureau
ATTACH;FMTTYPE=image/png:https://www.casuhal.org/wp-content/uploads/sites/41/2024/04/calendrier_bureau.png
END:VEVENT
END:VCALENDAR